BEGIN:VCALENDAR
VERSION:2.0
PRODID:-//Academia Boliviana de Historia Militar - ECPv6.15.20//NONSGML v1.0//EN
CALSCALE:GREGORIAN
METHOD:PUBLISH
X-ORIGINAL-URL:https://academiabolivianadehistoriamilitar.mil.bo
X-WR-CALDESC:Eventos para Academia Boliviana de Historia Militar
REFRESH-INTERVAL;VALUE=DURATION:PT1H
X-Robots-Tag:noindex
X-PUBLISHED-TTL:PT1H
BEGIN:VTIMEZONE
TZID:America/La_Paz
BEGIN:STANDARD
TZOFFSETFROM:-0400
TZOFFSETTO:-0400
TZNAME:-04
DTSTART:20250101T000000
END:STANDARD
END:VTIMEZONE
BEGIN:VEVENT
DTSTART;TZID=America/La_Paz:20260305T150000
DTEND;TZID=America/La_Paz:20260305T170000
DTSTAMP:20260420T053116
CREATED:20260305T143055Z
LAST-MODIFIED:20260305T143055Z
UID:1743-1772722800-1772730000@academiabolivianadehistoriamilitar.mil.bo
SUMMARY:Reunión 01/26
DESCRIPTION:1.- Palabras de Bienvenida del Sr. Lic. DAEN. Jorge Abastoflor Frey\, Subdirector Académico de la A.B.H.M. \n2.- Palabras del Sr. Gral. Brig. Marco Humberto Jaldín Gallardo (Director Nacional de la A.B.H.M.) \n3.- Lectura de Correspondencia. \n4.- Asuntos Varios. \n6.- Agradecimiento.
URL:https://academiabolivianadehistoriamilitar.mil.bo/eventos/reunion-01-26/
LOCATION:Academia Boliviana de Historia Militar\, Ingavi 1155\, La Paz\, La Paz\, Bolivia
CATEGORIES:Actividades
ATTACH;FMTTYPE=image/jpeg:https://academiabolivianadehistoriamilitar.mil.bo/wp-content/uploads/2026/03/WhatsApp-Image-2026-03-03-at-9.40.32-PM.jpeg
END:VEVENT
END:VCALENDAR