BEGIN:VCALENDAR
VERSION:2.0
PRODID:-//Academia Boliviana de Historia Militar - ECPv6.15.20//NONSGML v1.0//EN
CALSCALE:GREGORIAN
METHOD:PUBLISH
X-ORIGINAL-URL:https://academiabolivianadehistoriamilitar.mil.bo
X-WR-CALDESC:Eventos para Academia Boliviana de Historia Militar
REFRESH-INTERVAL;VALUE=DURATION:PT1H
X-Robots-Tag:noindex
X-PUBLISHED-TTL:PT1H
BEGIN:VTIMEZONE
TZID:America/La_Paz
BEGIN:STANDARD
TZOFFSETFROM:-0400
TZOFFSETTO:-0400
TZNAME:-04
DTSTART:20240101T000000
END:STANDARD
END:VTIMEZONE
BEGIN:VEVENT
DTSTART;TZID=America/La_Paz:20250508T150000
DTEND;TZID=America/La_Paz:20250508T170000
DTSTAMP:20260417T165019
CREATED:20260217T155406Z
LAST-MODIFIED:20260217T164932Z
UID:926-1746716400-1746723600@academiabolivianadehistoriamilitar.mil.bo
SUMMARY:Reunión 04/25
DESCRIPTION:1.- Bienvenida. \n2.- Lectura del Acta Anterior. \n3.- Lectura de Correspondencia. \n4.- Exposición de la Fecha\, a cargo del Sr. Cnl. DAEN. (SP). Guimer Franklin Romero Pacheco. \nTEMA: «Breve Historia del Colegio Militar» \n5.- Asuntos Varios. \n6.- Agradecimiento.
URL:https://academiabolivianadehistoriamilitar.mil.bo/eventos/reunion-04-25/
CATEGORIES:Actividades
ATTACH;FMTTYPE=image/jpeg:https://academiabolivianadehistoriamilitar.mil.bo/wp-content/uploads/2026/02/IMG-20250506-WA0008.jpg
END:VEVENT
END:VCALENDAR