BEGIN:VCALENDAR
VERSION:2.0
PRODID:-//Academia Boliviana de Historia Militar - ECPv6.15.20//NONSGML v1.0//EN
CALSCALE:GREGORIAN
METHOD:PUBLISH
X-ORIGINAL-URL:https://academiabolivianadehistoriamilitar.mil.bo
X-WR-CALDESC:Eventos para Academia Boliviana de Historia Militar
REFRESH-INTERVAL;VALUE=DURATION:PT1H
X-Robots-Tag:noindex
X-PUBLISHED-TTL:PT1H
BEGIN:VTIMEZONE
TZID:America/La_Paz
BEGIN:STANDARD
TZOFFSETFROM:-0400
TZOFFSETTO:-0400
TZNAME:-04
DTSTART:20240101T000000
END:STANDARD
END:VTIMEZONE
BEGIN:VEVENT
DTSTART;TZID=America/La_Paz:20251204T150000
DTEND;TZID=America/La_Paz:20251204T170000
DTSTAMP:20260420T043828
CREATED:20260217T220608Z
LAST-MODIFIED:20260217T220608Z
UID:964-1764860400-1764867600@academiabolivianadehistoriamilitar.mil.bo
SUMMARY:Reunión 14/25
DESCRIPTION:1.- Palabras de Bienvenida. \n2.- Palabras del Sr. Gral. Div. Francisco Arturo Nuñez del Prado Mendoza\, Director Nacional de la Academia Boliviana de Historia Militar. \n3.- Palabra de despedida del Sr. C. Almte. Freddy Ernesto Soto Polo\, Ex Director Nacional de la Academia Boliviana de Historia Militar. \n4.- Lectura del Acta Anterior. \n5.- Lectura de Correspondencia. \n6.-Defensa del Perfíl de Tesis\, a cargo del Sr. Gral. (SP). Luis Fernando Alcázar Chávez. \nTEMA: «Campañas Militares Incaicas para la conquista del altiplano en el Periodo Precolonial.» \n7.- Asuntos Varios. \n6.- Agradecimiento.
URL:https://academiabolivianadehistoriamilitar.mil.bo/eventos/reunion-14-25/
LOCATION:Academia Boliviana de Historia Militar\, Ingavi 1155\, La Paz\, La Paz\, Bolivia
CATEGORIES:Actividades
ATTACH;FMTTYPE=image/jpeg:https://academiabolivianadehistoriamilitar.mil.bo/wp-content/uploads/2026/02/IMG-20251203-WA0020.jpg
END:VEVENT
END:VCALENDAR